BEGIN:VCALENDAR
VERSION:2.0
PRODID:-//Inspiration Performing Arts Center - ECPv6.15.18//NONSGML v1.0//EN
CALSCALE:GREGORIAN
METHOD:PUBLISH
X-WR-CALNAME:Inspiration Performing Arts Center
X-ORIGINAL-URL:https://inspiration-dance.com
X-WR-CALDESC:Events for Inspiration Performing Arts Center
REFRESH-INTERVAL;VALUE=DURATION:PT1H
X-Robots-Tag:noindex
X-PUBLISHED-TTL:PT1H
BEGIN:VTIMEZONE
TZID:America/Chicago
BEGIN:DAYLIGHT
TZOFFSETFROM:-0600
TZOFFSETTO:-0500
TZNAME:CDT
DTSTART:20250309T080000
END:DAYLIGHT
BEGIN:STANDARD
TZOFFSETFROM:-0500
TZOFFSETTO:-0600
TZNAME:CST
DTSTART:20251102T070000
END:STANDARD
BEGIN:DAYLIGHT
TZOFFSETFROM:-0600
TZOFFSETTO:-0500
TZNAME:CDT
DTSTART:20260308T080000
END:DAYLIGHT
BEGIN:STANDARD
TZOFFSETFROM:-0500
TZOFFSETTO:-0600
TZNAME:CST
DTSTART:20261101T070000
END:STANDARD
BEGIN:DAYLIGHT
TZOFFSETFROM:-0600
TZOFFSETTO:-0500
TZNAME:CDT
DTSTART:20270314T080000
END:DAYLIGHT
BEGIN:STANDARD
TZOFFSETFROM:-0500
TZOFFSETTO:-0600
TZNAME:CST
DTSTART:20271107T070000
END:STANDARD
END:VTIMEZONE
BEGIN:VEVENT
DTSTART;VALUE=DATE:20260302
DTEND;VALUE=DATE:20260303
DTSTAMP:20260419T223320
CREATED:20240619T173341Z
LAST-MODIFIED:20250616T202312Z
UID:1410-1772409600-1772495999@inspiration-dance.com
SUMMARY:2026 Summer Camps are Now LIVE!
DESCRIPTION:Join us for the most inspiring summer yet! All 2026 Summer Camps are open for Registration! Don’t miss out on the fun\, fun\, fun!
URL:https://inspiration-dance.com/event/2025-summer-camps-are-now-live/
LOCATION:Minnesota
END:VEVENT
BEGIN:VEVENT
DTSTART;VALUE=DATE:20260308
DTEND;VALUE=DATE:20260316
DTSTAMP:20260419T223320
CREATED:20240619T173422Z
LAST-MODIFIED:20250616T202243Z
UID:1412-1772928000-1773619199@inspiration-dance.com
SUMMARY:Closed for Spring Break!
DESCRIPTION:Enjoy your time off for Spring Break! We will see you back on Monday March 16th!
URL:https://inspiration-dance.com/event/closed-for-spring-break-3/
LOCATION:Minnesota
END:VEVENT
BEGIN:VEVENT
DTSTART;VALUE=DATE:20260328
DTEND;VALUE=DATE:20260329
DTSTAMP:20260419T223320
CREATED:20240619T173628Z
LAST-MODIFIED:20260115T214506Z
UID:1414-1774656000-1774742399@inspiration-dance.com
SUMMARY:Dance Picture Day!
DESCRIPTION:SMILES. ON. COSTUMES. READY. All dance students – Picture day Saturday\, March 28th  – specific class times will be found HERE. \nBring your dance shoes\, tights on\, costumes on\, smiles and excitement for our Annual Spring Show!!! Can’t Wait! \nMusic students\, you have the option to join us too! Saturday classes will still be held at IPAC.
URL:https://inspiration-dance.com/event/dance-picture-day/
LOCATION:Minnesota
END:VEVENT
END:VCALENDAR