BEGIN:VCALENDAR
VERSION:2.0
PRODID:-//Inspiration Performing Arts Center - ECPv6.15.18//NONSGML v1.0//EN
CALSCALE:GREGORIAN
METHOD:PUBLISH
X-WR-CALNAME:Inspiration Performing Arts Center
X-ORIGINAL-URL:https://inspiration-dance.com
X-WR-CALDESC:Events for Inspiration Performing Arts Center
REFRESH-INTERVAL;VALUE=DURATION:PT1H
X-Robots-Tag:noindex
X-PUBLISHED-TTL:PT1H
BEGIN:VTIMEZONE
TZID:America/Chicago
BEGIN:DAYLIGHT
TZOFFSETFROM:-0600
TZOFFSETTO:-0500
TZNAME:CDT
DTSTART:20200308T080000
END:DAYLIGHT
BEGIN:STANDARD
TZOFFSETFROM:-0500
TZOFFSETTO:-0600
TZNAME:CST
DTSTART:20201101T070000
END:STANDARD
BEGIN:DAYLIGHT
TZOFFSETFROM:-0600
TZOFFSETTO:-0500
TZNAME:CDT
DTSTART:20210314T080000
END:DAYLIGHT
BEGIN:STANDARD
TZOFFSETFROM:-0500
TZOFFSETTO:-0600
TZNAME:CST
DTSTART:20211107T070000
END:STANDARD
BEGIN:DAYLIGHT
TZOFFSETFROM:-0600
TZOFFSETTO:-0500
TZNAME:CDT
DTSTART:20220313T080000
END:DAYLIGHT
BEGIN:STANDARD
TZOFFSETFROM:-0500
TZOFFSETTO:-0600
TZNAME:CST
DTSTART:20221106T070000
END:STANDARD
BEGIN:DAYLIGHT
TZOFFSETFROM:-0600
TZOFFSETTO:-0500
TZNAME:CDT
DTSTART:20230312T080000
END:DAYLIGHT
BEGIN:STANDARD
TZOFFSETFROM:-0500
TZOFFSETTO:-0600
TZNAME:CST
DTSTART:20231105T070000
END:STANDARD
END:VTIMEZONE
BEGIN:VEVENT
DTSTART;VALUE=DATE:20211219
DTEND;VALUE=DATE:20220103
DTSTAMP:20260420T185304
CREATED:20211231T205633Z
LAST-MODIFIED:20211231T205633Z
UID:261-1639872000-1641167999@inspiration-dance.com
SUMMARY:CLOSED for Christmas\, New Year's BREAK
DESCRIPTION:IPAC is closed for the holiday break in celebration of Christmas and New Year’s holidays\, December 19th – January 2nd. Enjoy your time spent with friends and family! We wish you a most joyous holiday season:). Love\, Your IPAC Team
URL:https://inspiration-dance.com/event/closed-for-christmas-new-years-break/
END:VEVENT
END:VCALENDAR