BEGIN:VCALENDAR
VERSION:2.0
PRODID:-//Inspiration Performing Arts Center - ECPv6.15.18//NONSGML v1.0//EN
CALSCALE:GREGORIAN
METHOD:PUBLISH
X-ORIGINAL-URL:https://inspiration-dance.com
X-WR-CALDESC:Events for Inspiration Performing Arts Center
REFRESH-INTERVAL;VALUE=DURATION:PT1H
X-Robots-Tag:noindex
X-PUBLISHED-TTL:PT1H
BEGIN:VTIMEZONE
TZID:America/Chicago
BEGIN:DAYLIGHT
TZOFFSETFROM:-0600
TZOFFSETTO:-0500
TZNAME:CDT
DTSTART:20250309T080000
END:DAYLIGHT
BEGIN:STANDARD
TZOFFSETFROM:-0500
TZOFFSETTO:-0600
TZNAME:CST
DTSTART:20251102T070000
END:STANDARD
BEGIN:DAYLIGHT
TZOFFSETFROM:-0600
TZOFFSETTO:-0500
TZNAME:CDT
DTSTART:20260308T080000
END:DAYLIGHT
BEGIN:STANDARD
TZOFFSETFROM:-0500
TZOFFSETTO:-0600
TZNAME:CST
DTSTART:20261101T070000
END:STANDARD
BEGIN:DAYLIGHT
TZOFFSETFROM:-0600
TZOFFSETTO:-0500
TZNAME:CDT
DTSTART:20270314T080000
END:DAYLIGHT
BEGIN:STANDARD
TZOFFSETFROM:-0500
TZOFFSETTO:-0600
TZNAME:CST
DTSTART:20271107T070000
END:STANDARD
END:VTIMEZONE
BEGIN:VEVENT
DTSTART;TZID=America/Chicago:20260515T163000
DTEND;TZID=America/Chicago:20260515T173000
DTSTAMP:20260420T001535
CREATED:20231219T193956Z
LAST-MODIFIED:20250616T202845Z
UID:1146-1778862600-1778866200@inspiration-dance.com
SUMMARY:Parent Child Dance Rehearsal 2
DESCRIPTION:  \nRehearsal is on-stage today!\nFriday\, May 15: 4:30-5:30pm on stage at Stillwater Middle School \nCreate a memory to cherish for a lifetime and participate in Parent/Child dance! Dance performs in the recital your dancers performs in both days of Season #20 Year end spring recitals.
URL:https://inspiration-dance.com/event/parent-child-dance-rehearsal-2/
LOCATION:Minnesota
END:VEVENT
BEGIN:VEVENT
DTSTART;TZID=America/Chicago:20260515T173000
DTEND;TZID=America/Chicago:20260515T183000
DTSTAMP:20260420T001535
CREATED:20220316T223416Z
LAST-MODIFIED:20250616T202952Z
UID:507-1778866200-1778869800@inspiration-dance.com
SUMMARY:Final Production Rehearsal
DESCRIPTION:Final rehearsal all together on stage at Stillwater Middle School: Friday\, May 15th 5:30-6:30pm. \nDancers will only perform in their show throughout the weekend\, unless they would like to perform this piece in all shows. Please let us know if you intend to do all shows. \nFor Performances dancers need to wear any black bottoms (shorts\, capris\, pants\, etc) or their costumes and the provided recital t-shirt with either jazz\, ballet\, or hip hop shoes.
URL:https://inspiration-dance.com/event/final-production-rehearsal/
LOCATION:Stillwater Middle School\, 523 March St W\, Stillwater\, Minnesota\, 55082
END:VEVENT
END:VCALENDAR