BEGIN:VCALENDAR
VERSION:2.0
PRODID:-//Inspiration Performing Arts Center - ECPv6.15.18//NONSGML v1.0//EN
CALSCALE:GREGORIAN
METHOD:PUBLISH
X-ORIGINAL-URL:https://inspiration-dance.com
X-WR-CALDESC:Events for Inspiration Performing Arts Center
REFRESH-INTERVAL;VALUE=DURATION:PT1H
X-Robots-Tag:noindex
X-PUBLISHED-TTL:PT1H
BEGIN:VTIMEZONE
TZID:America/Chicago
BEGIN:DAYLIGHT
TZOFFSETFROM:-0600
TZOFFSETTO:-0500
TZNAME:CDT
DTSTART:20250309T080000
END:DAYLIGHT
BEGIN:STANDARD
TZOFFSETFROM:-0500
TZOFFSETTO:-0600
TZNAME:CST
DTSTART:20251102T070000
END:STANDARD
BEGIN:DAYLIGHT
TZOFFSETFROM:-0600
TZOFFSETTO:-0500
TZNAME:CDT
DTSTART:20260308T080000
END:DAYLIGHT
BEGIN:STANDARD
TZOFFSETFROM:-0500
TZOFFSETTO:-0600
TZNAME:CST
DTSTART:20261101T070000
END:STANDARD
BEGIN:DAYLIGHT
TZOFFSETFROM:-0600
TZOFFSETTO:-0500
TZNAME:CDT
DTSTART:20270314T080000
END:DAYLIGHT
BEGIN:STANDARD
TZOFFSETFROM:-0500
TZOFFSETTO:-0600
TZNAME:CST
DTSTART:20271107T070000
END:STANDARD
END:VTIMEZONE
BEGIN:VEVENT
DTSTART;VALUE=DATE:20260509
DTEND;VALUE=DATE:20260515
DTSTAMP:20260420T001417
CREATED:20220503T185318Z
LAST-MODIFIED:20250616T202733Z
UID:547-1778284800-1778803199@inspiration-dance.com
SUMMARY:In Class Dress Rehearsal Week
DESCRIPTION:May 9-14th\, 2026 \nIPAC will host in-studio dress rehearsals. \nYour student should come to their regular scheduled class time with hair and make up done. Hair should be done by the teachers discrescion. Students will arrive in regular class wear and change into costumes later in class. \nYour student will need: \n\nALL costumes\nALL dance shoes\nAny accessories for each costume\nAll costumes and accessories in a bag clearly labeled. Be sure to label EVERYTHING!\n\nFor a class that has one costume\, dress rehearsal will be the last 15 minutes of class. For a class that has more than one costume\, dress rehearsal will be the last 30 minutes of class. If you have any questions\, please ask the class teacher. \nWhen each class starts their dress rehearsal\, parents are welcomed to come in and help their child change. Each class will perform their routine in costume and we encourage parents to video. Some classes will also practice their open production routine. \nWe welcome 1 parent in for dress rehearsal. Please no siblings and no extras.
URL:https://inspiration-dance.com/event/in-class-dress-rehearsal-week/
LOCATION:Minnesota
END:VEVENT
END:VCALENDAR