BEGIN:VCALENDAR
VERSION:2.0
PRODID:-//Inspiration Performing Arts Center - ECPv6.15.18//NONSGML v1.0//EN
CALSCALE:GREGORIAN
METHOD:PUBLISH
X-WR-CALNAME:Inspiration Performing Arts Center
X-ORIGINAL-URL:https://inspiration-dance.com
X-WR-CALDESC:Events for Inspiration Performing Arts Center
REFRESH-INTERVAL;VALUE=DURATION:PT1H
X-Robots-Tag:noindex
X-PUBLISHED-TTL:PT1H
BEGIN:VTIMEZONE
TZID:America/Chicago
BEGIN:DAYLIGHT
TZOFFSETFROM:-0600
TZOFFSETTO:-0500
TZNAME:CDT
DTSTART:20250309T080000
END:DAYLIGHT
BEGIN:STANDARD
TZOFFSETFROM:-0500
TZOFFSETTO:-0600
TZNAME:CST
DTSTART:20251102T070000
END:STANDARD
BEGIN:DAYLIGHT
TZOFFSETFROM:-0600
TZOFFSETTO:-0500
TZNAME:CDT
DTSTART:20260308T080000
END:DAYLIGHT
BEGIN:STANDARD
TZOFFSETFROM:-0500
TZOFFSETTO:-0600
TZNAME:CST
DTSTART:20261101T070000
END:STANDARD
BEGIN:DAYLIGHT
TZOFFSETFROM:-0600
TZOFFSETTO:-0500
TZNAME:CDT
DTSTART:20270314T080000
END:DAYLIGHT
BEGIN:STANDARD
TZOFFSETFROM:-0500
TZOFFSETTO:-0600
TZNAME:CST
DTSTART:20271107T070000
END:STANDARD
END:VTIMEZONE
BEGIN:VEVENT
DTSTART;VALUE=DATE:20260209
DTEND;VALUE=DATE:20260215
DTSTAMP:20260420T020643
CREATED:20240618T202213Z
LAST-MODIFIED:20250616T203247Z
UID:1390-1770595200-1771113599@inspiration-dance.com
SUMMARY:Try It Free Week!
DESCRIPTION:Enrollment is still open for the New Season\, and we’d love to welcome you and your family to Inspiration Performing Arts Center (IPAC) for dance or music. To secure your spot\, simply visit our website at inspiration-dance.com/register or give us a call at 651-214-8713. Not sure what to enroll in\, stop in for any class for ‘Try-it Free‘ week. Let us know what trial time works for you here. \n  \n\n\n\n\n\n\n\nDon’t miss out on the opportunity to dance\, learn music\, and grow with us this season. We can’t wait to see your child light up the Studio!
URL:https://inspiration-dance.com/event/try-it-free-week-9/
LOCATION:Minnesota
END:VEVENT
END:VCALENDAR